BEGIN:VCALENDAR
VERSION:2.0
PRODID:-//Brent O&#039;Bannon | Strengths Champion Solutions - ECPv6.15.20//NONSGML v1.0//EN
CALSCALE:GREGORIAN
METHOD:PUBLISH
X-WR-CALNAME:Brent O&#039;Bannon | Strengths Champion Solutions
X-ORIGINAL-URL:https://brentobannon.com
X-WR-CALDESC:Events for Brent O&#039;Bannon | Strengths Champion Solutions
REFRESH-INTERVAL;VALUE=DURATION:PT1H
X-Robots-Tag:noindex
X-PUBLISHED-TTL:PT1H
BEGIN:VTIMEZONE
TZID:America/Chicago
BEGIN:DAYLIGHT
TZOFFSETFROM:-0600
TZOFFSETTO:-0500
TZNAME:CDT
DTSTART:20250309T080000
END:DAYLIGHT
BEGIN:STANDARD
TZOFFSETFROM:-0500
TZOFFSETTO:-0600
TZNAME:CST
DTSTART:20251102T070000
END:STANDARD
BEGIN:DAYLIGHT
TZOFFSETFROM:-0600
TZOFFSETTO:-0500
TZNAME:CDT
DTSTART:20260308T080000
END:DAYLIGHT
BEGIN:STANDARD
TZOFFSETFROM:-0500
TZOFFSETTO:-0600
TZNAME:CST
DTSTART:20261101T070000
END:STANDARD
BEGIN:DAYLIGHT
TZOFFSETFROM:-0600
TZOFFSETTO:-0500
TZNAME:CDT
DTSTART:20270314T080000
END:DAYLIGHT
BEGIN:STANDARD
TZOFFSETFROM:-0500
TZOFFSETTO:-0600
TZNAME:CST
DTSTART:20271107T070000
END:STANDARD
END:VTIMEZONE
BEGIN:VEVENT
DTSTART;TZID=America/Chicago:20260508T090000
DTEND;TZID=America/Chicago:20260508T150000
DTSTAMP:20260421T045242
CREATED:20260107T203108Z
LAST-MODIFIED:20260107T203108Z
UID:29229-1778230800-1778252400@brentobannon.com
SUMMARY:Strengths Champion Certified Leader® Workshop
DESCRIPTION:Lead wiser. Champion a flourishing team and culture. \nBecome a Strengths Champion Certified Leader® and elevate your leadership with the CliftonStrengths Leadership Report\, and the 7 Pillars of Strengths-Based Leadership — all in one powerful day of high-impact training. \nYou’ll walk away with a certification badge + logo you can proudly add to your LinkedIn profile\, résumé\, and professional portfolios. \nEvent Details:\nDate: May 8th\, 2026\nTime: 9 AM -3 PM CST\nCost: $800\nLocation: Online – Connect from Anywhere! \nRegister Here \nWhat You’ll Master\nThis certification is built on the most current research and the 7 Pillars of Strengths-Based Leadership from the Strengths Champion Solutions® framework: \n\nBuild Relationships: Establish trust\, collaboration\, belonging\, and psychological safety.\nDevelop People: Coach confidently. Grow talent. Use strengths to ignite potential.\nLead Change: Navigate complexity. Model healthy adaptation. Align teams with clarity.\nInspire Others: Influence with purpose. Energize your culture. Champion success.\nThink Critically: Solve problems. Evaluate wisely. Make strengths-informed decisions.\nCommunicate Clearly: Speak with clarity. Listen deeply. Foster meaningful dialogue.\nCreate Accountability: Set expectations. Drive performance. Strengthen follow-through.\n\n  \nPerfect For:\n\nCity Government Leaders\nSupervisors\, Managers & High-Potential Talent\nBusiness Owners & Executives\nLeaders Expanding Their Strategic Toolkit\n\nThis certification gives you the clarity\, confidence\, and skills today’s leaders need. \n  \nWhat’s Included\n\nCliftonStrengths Leadership Report\nFull-day interactive virtual training (9–3 PM CST)\nStrengths Champion Certified Leader® digital badge + logo\nPrintable worksheets + leadership tools\nCertificate of completion\n\n  \nTake Your Leadership Even Further\nGraduates receive an exclusive invitation to join the Lead Wiser Leadership Mastermind \nMonthly coaching • accountability • strategy • community.\nThe perfect next step to deepen your strengths\, sharpen decision-making\, and grow in influence all year long. \n  \nBecome a Strengths Champion Certified Leader® Today\nOne day. One investment. A lifetime of stronger leadership.
URL:https://brentobannon.com/event/strengths-champion-certified-leader-workshop-3/
LOCATION:Live Online via Zoom
ATTACH;FMTTYPE=image/jpeg:https://brentobannon.com/wp-content/uploads/2025/12/strengths-champion-certified-leader-product-image-scaled750.jpg
END:VEVENT
END:VCALENDAR